BEGIN:VCALENDAR
PRODID:Wortell/13602
VERSION:2.0
CALSCALE:GREGORIAN
BEGIN:VEVENT
UID:56d28af412a85c30c6146da80c41c26e
DTSTAMP:20260424T011150Z
SUMMARY:Get a grip on knowledge in your organization https://www.wortell.nl
 /en/agenda/grip-op-kennis-in-je-organisatie
DTSTART;TZID=Europe/Amsterdam:20260423T130000
DTEND;TZID=Europe/Amsterdam:20260423T140000
END:VEVENT
END:VCALENDAR
