BEGIN:VCALENDAR
PRODID:Wortell/13004
VERSION:2.0
CALSCALE:GREGORIAN
BEGIN:VEVENT
UID:d8447c28f4513ef4a3bdbdd0b1f57d18
DTSTAMP:20260422T085530Z
SUMMARY:Into NIS 2.0 https://www.wortell.nl/nl/evenementen/into-nis-20
DTSTART;TZID=Europe/Amsterdam:20231011T000000
DTEND;TZID=Europe/Amsterdam:20231011T010000
END:VEVENT
END:VCALENDAR
