BEGIN:VCALENDAR
PRODID:Wortell/13326
VERSION:2.0
CALSCALE:GREGORIAN
BEGIN:VEVENT
UID:bd821d64fef85d62dc669524ce07301d
DTSTAMP:20260420T132301Z
SUMMARY:Darkweb nightmares: Is jouw bedrijf het volgende doelwit? https://w
 ww.wortell.nl/nl/evenementen/darkweb-nightmares-is-jouw-organisatie-het-vo
 lgende-doelwit
DTSTART;TZID=Europe/Amsterdam:20250218T110000
DTEND;TZID=Europe/Amsterdam:20250218T120000
END:VEVENT
END:VCALENDAR
