BEGIN:VCALENDAR
PRODID:Wortell/13494
VERSION:2.0
CALSCALE:GREGORIAN
BEGIN:VEVENT
UID:c0ff8fda495fca855e7bbafb33b67099
DTSTAMP:20260422T100124Z
SUMMARY:Wake up with Microsoft Fabric voor onderwijsinstellingen https://ww
 w.wortell.nl/nl/evenementen/wake-up-with-fabric-voor-onderwijsinstellingen
DTSTART;TZID=Europe/Amsterdam:20251119T083000
DTEND;TZID=Europe/Amsterdam:20251119T130000
END:VEVENT
END:VCALENDAR
