BEGIN:VCALENDAR
PRODID:Wortell/13559
VERSION:2.0
CALSCALE:GREGORIAN
BEGIN:VEVENT
UID:8923b0ccceb80fd3d9b4db6eed0ac613
DTSTAMP:20260420T122844Z
SUMMARY:Webinar: AI op een hoger niveau met je eigen data in Fabric https:/
 /www.wortell.nl/nl/evenementen/webinar-ai-op-een-hoger-niveau-met-je-eigen
 -data-ochtend
DTSTART;TZID=Europe/Amsterdam:20260204T100000
DTEND;TZID=Europe/Amsterdam:20260204T110000
END:VEVENT
END:VCALENDAR
