BEGIN:VCALENDAR
PRODID:Wortell/13560
VERSION:2.0
CALSCALE:GREGORIAN
BEGIN:VEVENT
UID:ee7603265d366114eb6a4dc1691338a3
DTSTAMP:20260420T082114Z
SUMMARY:Webinar: AI op een hoger niveau met je eigen data in Fabric https:/
 /www.wortell.nl/nl/evenementen/webinar-ai-op-een-hoger-niveau-met-je-eigen
 -data-middag
DTSTART;TZID=Europe/Amsterdam:20260204T140000
DTEND;TZID=Europe/Amsterdam:20260204T150000
END:VEVENT
END:VCALENDAR
