BEGIN:VCALENDAR
PRODID:Wortell/13561
VERSION:2.0
CALSCALE:GREGORIAN
BEGIN:VEVENT
UID:930a77288c8408f2681c5e95a2f83ec8
DTSTAMP:20260420T154248Z
SUMMARY:Webinar  - Duik in Copilot Chat - ochtend https://www.wortell.nl/nl
 /evenementen/webinar-copilot-chat-22-jan-1000uur
DTSTART;TZID=Europe/Amsterdam:20260122T090000
DTEND;TZID=Europe/Amsterdam:20260122T110000
END:VEVENT
END:VCALENDAR
