BEGIN:VCALENDAR
PRODID:Wortell/13562
VERSION:2.0
CALSCALE:GREGORIAN
BEGIN:VEVENT
UID:787b6b6cfd101ae4e7a73001c94bd9fd
DTSTAMP:20260420T153245Z
SUMMARY:Webinar  - Duik in Copilot Chat - middag https://www.wortell.nl/nl/
 evenementen/webinar-copilot-chat-22-jan-1000uur-1
DTSTART;TZID=Europe/Amsterdam:20260122T150000
DTEND;TZID=Europe/Amsterdam:20260122T170000
END:VEVENT
END:VCALENDAR
