BEGIN:VCALENDAR
PRODID:Wortell/13564
VERSION:2.0
CALSCALE:GREGORIAN
BEGIN:VEVENT
UID:03bd903c901ffc79094c7ba23f94a5c5
DTSTAMP:20260420T082114Z
SUMMARY:AI Innovation Circle https://www.wortell.nl/nl/evenementen/ai-innov
 ation-circle-januari-2026
DTSTART;TZID=Europe/Amsterdam:20260127T110000
DTEND;TZID=Europe/Amsterdam:20260127T114500
END:VEVENT
END:VCALENDAR
