BEGIN:VCALENDAR
PRODID:Wortell/13594
VERSION:2.0
CALSCALE:GREGORIAN
BEGIN:VEVENT
UID:3a0837ab617e35d6f078283b1c029188
DTSTAMP:20260420T015151Z
SUMMARY:De waarde en weerbaarheid van het dataplatform https://www.wortell.
 nl/nl/evenementen/azure-data-platform-security-webinar
DTSTART;TZID=Europe/Amsterdam:20260331T110000
DTEND;TZID=Europe/Amsterdam:20260331T120000
END:VEVENT
END:VCALENDAR
