BEGIN:VCALENDAR
PRODID:Wortell/13617
VERSION:2.0
CALSCALE:GREGORIAN
BEGIN:VEVENT
UID:bda8ce2d579b2d610c29a4f9edf5ec57
DTSTAMP:20260420T185544Z
SUMMARY:Hoe AI agents het intranetlandschap veranderen https://www.wortell.
 nl/nl/evenementen/hoe-ai-agents-het-intranetlandschap-veranderen
DTSTART;TZID=Europe/Amsterdam:20260528T130000
DTEND;TZID=Europe/Amsterdam:20260528T140000
END:VEVENT
END:VCALENDAR
